BEGIN:VCALENDAR
VERSION:2.0
PRODID:-//AcademyWomen - ECPv6.15.20//NONSGML v1.0//EN
CALSCALE:GREGORIAN
METHOD:PUBLISH
X-WR-CALNAME:AcademyWomen
X-ORIGINAL-URL:https://academywomen.org
X-WR-CALDESC:Events for AcademyWomen
REFRESH-INTERVAL;VALUE=DURATION:PT1H
X-Robots-Tag:noindex
X-PUBLISHED-TTL:PT1H
BEGIN:VTIMEZONE
TZID:America/Halifax
BEGIN:DAYLIGHT
TZOFFSETFROM:-0400
TZOFFSETTO:-0300
TZNAME:ADT
DTSTART:20250309T060000
END:DAYLIGHT
BEGIN:STANDARD
TZOFFSETFROM:-0300
TZOFFSETTO:-0400
TZNAME:AST
DTSTART:20251102T050000
END:STANDARD
BEGIN:DAYLIGHT
TZOFFSETFROM:-0400
TZOFFSETTO:-0300
TZNAME:ADT
DTSTART:20260308T060000
END:DAYLIGHT
BEGIN:STANDARD
TZOFFSETFROM:-0300
TZOFFSETTO:-0400
TZNAME:AST
DTSTART:20261101T050000
END:STANDARD
BEGIN:DAYLIGHT
TZOFFSETFROM:-0400
TZOFFSETTO:-0300
TZNAME:ADT
DTSTART:20270314T060000
END:DAYLIGHT
BEGIN:STANDARD
TZOFFSETFROM:-0300
TZOFFSETTO:-0400
TZNAME:AST
DTSTART:20271107T050000
END:STANDARD
END:VTIMEZONE
BEGIN:VEVENT
DTSTART;TZID=America/Halifax:20260224T160000
DTEND;TZID=America/Halifax:20260224T170000
DTSTAMP:20260424T223955
CREATED:20260123T213853Z
LAST-MODIFIED:20260130T221117Z
UID:10000021-1771948800-1771952400@academywomen.org
SUMMARY:OWLS Book Club FEB 24\, 2026: Meet Author - Taylor Jenkins Reid - #1 New York Times Bestselling Author
DESCRIPTION:OWLS BOOK CLUB: MEET THE AUTHOR – TAYLOR JENKINS REID – 4:00p EST \n\n\nRegister and join us for a LIVE discussion with the #1 New York Times bestselling author of “The Seven Husbands of Evelyn Hugo” and “Daisy Jones & The Six“. Set against the backdrop of the 1980s Space Shuttle program\, her new novel “Atmosphere” is about the extraordinary lengths we go to live and love beyond our limits. \nCome prepared and read her latest book Atmosphere in advance. \nThis event will not be recorded.  \nRegister now for this free event.
URL:https://academywomen.org/our-event/feb-24-owls-book-club-meet-author-taylor-jenkins-reid-1-new-york-times-bestselling-author/
CATEGORIES:OWLS
END:VEVENT
END:VCALENDAR