BEGIN:VCALENDAR
VERSION:2.0
PRODID:-//AcademyWomen - ECPv6.15.20//NONSGML v1.0//EN
CALSCALE:GREGORIAN
METHOD:PUBLISH
X-ORIGINAL-URL:https://academywomen.org
X-WR-CALDESC:Events for AcademyWomen
REFRESH-INTERVAL;VALUE=DURATION:PT1H
X-Robots-Tag:noindex
X-PUBLISHED-TTL:PT1H
BEGIN:VTIMEZONE
TZID:America/Halifax
BEGIN:DAYLIGHT
TZOFFSETFROM:-0400
TZOFFSETTO:-0300
TZNAME:ADT
DTSTART:20250309T060000
END:DAYLIGHT
BEGIN:STANDARD
TZOFFSETFROM:-0300
TZOFFSETTO:-0400
TZNAME:AST
DTSTART:20251102T050000
END:STANDARD
BEGIN:DAYLIGHT
TZOFFSETFROM:-0400
TZOFFSETTO:-0300
TZNAME:ADT
DTSTART:20260308T060000
END:DAYLIGHT
BEGIN:STANDARD
TZOFFSETFROM:-0300
TZOFFSETTO:-0400
TZNAME:AST
DTSTART:20261101T050000
END:STANDARD
BEGIN:DAYLIGHT
TZOFFSETFROM:-0400
TZOFFSETTO:-0300
TZNAME:ADT
DTSTART:20270314T060000
END:DAYLIGHT
BEGIN:STANDARD
TZOFFSETFROM:-0300
TZOFFSETTO:-0400
TZNAME:AST
DTSTART:20271107T050000
END:STANDARD
END:VTIMEZONE
BEGIN:VEVENT
DTSTART;TZID=America/Halifax:20260716T160000
DTEND;TZID=America/Halifax:20260716T160000
DTSTAMP:20260424T183137
CREATED:20260123T224708Z
LAST-MODIFIED:20260123T232056Z
UID:10000023-1784217600-1784217600@academywomen.org
SUMMARY:OWLS We Salute Her: Mystics Joint Event JULY 16\, 2026
DESCRIPTION:OWLS WE SALUTE HER: Mystics Joint Event JULY 16\, 2026\n\n\nPanel Discussion and Reception followed by WMBA Washington Mystics vs Portland Fire Basketball Game \nThis event kicks off with a panel discussion featuring prominent women leaders along with a reception and then culminates with a WNBA game featuring the Washington Mystics vs Portland Fire. \nJoin us for an evening of insight\, connection\, and adrenaline in-person in Washington\, DC.
URL:https://academywomen.org/our-event/owls-we-salute-her-mystics-joint-event-july-16-2026/
CATEGORIES:OWLS
END:VEVENT
END:VCALENDAR