BEGIN:VCALENDAR
VERSION:2.0
PRODID:-//AcademyWomen - ECPv6.15.20//NONSGML v1.0//EN
CALSCALE:GREGORIAN
METHOD:PUBLISH
X-ORIGINAL-URL:https://academywomen.org
X-WR-CALDESC:Events for AcademyWomen
REFRESH-INTERVAL;VALUE=DURATION:PT1H
X-Robots-Tag:noindex
X-PUBLISHED-TTL:PT1H
BEGIN:VTIMEZONE
TZID:America/Halifax
BEGIN:DAYLIGHT
TZOFFSETFROM:-0400
TZOFFSETTO:-0300
TZNAME:ADT
DTSTART:20250309T060000
END:DAYLIGHT
BEGIN:STANDARD
TZOFFSETFROM:-0300
TZOFFSETTO:-0400
TZNAME:AST
DTSTART:20251102T050000
END:STANDARD
BEGIN:DAYLIGHT
TZOFFSETFROM:-0400
TZOFFSETTO:-0300
TZNAME:ADT
DTSTART:20260308T060000
END:DAYLIGHT
BEGIN:STANDARD
TZOFFSETFROM:-0300
TZOFFSETTO:-0400
TZNAME:AST
DTSTART:20261101T050000
END:STANDARD
BEGIN:DAYLIGHT
TZOFFSETFROM:-0400
TZOFFSETTO:-0300
TZNAME:ADT
DTSTART:20270314T060000
END:DAYLIGHT
BEGIN:STANDARD
TZOFFSETFROM:-0300
TZOFFSETTO:-0400
TZNAME:AST
DTSTART:20271107T050000
END:STANDARD
END:VTIMEZONE
BEGIN:VEVENT
DTSTART;TZID=America/Halifax:20261009T160000
DTEND;TZID=America/Halifax:20261009T170000
DTSTAMP:20260424T225657
CREATED:20260123T235639Z
LAST-MODIFIED:20260123T235802Z
UID:10000026-1791561600-1791565200@academywomen.org
SUMMARY:Career Discovery Webinar: OCT\, 2026
DESCRIPTION:CAREER DISCOVERY WEBINAR: MEET AND MINGLE WITH TOP EMPLOYERS\n\n\nJoin us for this session kicking off with a panel discussion featuring representatives from different industries followed by breakout rooms to meet and mingle for deeper discussion on topics that interest you most (4:00p-5:00p EST). \nJoin us in October!
URL:https://academywomen.org/our-event/career-discovery-webinar-oct-2026/
CATEGORIES:Career Workshop,Webinars
LOCATION:https://academywomen.org/our-event/career-discovery-webinar-oct-2026/
END:VEVENT
END:VCALENDAR